BEGIN:VCALENDAR
VERSION:2.0
PRODID:icalendar-ruby
CALSCALE:GREGORIAN
METHOD:PUBLISH
BEGIN:VEVENT
DTSTAMP:20260424T114017Z
UID:http://www.bur.com.au/property?property_id=1764984
DTSTART:20260530T110000
DTEND:20260530T113000
CLASS:PUBLIC
CREATED:20260423T104317
DESCRIPTION: 
LAST-MODIFIED:20260424T185547
LOCATION:2123 Kiewa Valley Highway\, KERGUNYAH VIC 3691\, Australia
SUMMARY:2123 Kiewa Valley Highway\,  Auction
URL;VALUE=URI:http://www.bur.com.au/property?property_id=1764984
END:VEVENT
END:VCALENDAR
